BEGIN:VCALENDAR
PRODID:http://wibix.de/infusions/pro_download_panel/download.php?did=27
VERSION:2.0
METHOD:PUBLISH
BEGIN:VEVENT
DTSTART:20260207T063000Z
DTEND:20260207T140000Z
UID:305@https://www.morraruters.nl/
DTSTAMP:20260206T133848Z
DESCRIPTION:Op zaterdag 7 februari organiseren wij een indoor springwedstrijd voor de pony&#39;s\nWe beginnen om half 10 met parcours verkennen en om 10.00 uur met het springen.\nBeide hallen zijn gesloten voor vrijrijden.
SUMMARY:Indoor springwedstrijd pony&#39;s
LOCATION:Rijhal De Morraruters
CLASS:PUBLIC
END:VEVENT
END:VCALENDAR
