BEGIN:VCALENDAR
PRODID:http://wibix.de/infusions/pro_download_panel/download.php?did=27
VERSION:2.0
METHOD:PUBLISH
BEGIN:VEVENT
DTSTART:20250117T190000Z
DTEND:20250117T213000Z
UID:250@https://www.morraruters.nl/
DTSTAMP:20250104T084344Z
DESCRIPTION:Op vrijdagavond 17 januari 2025 organiseren wij een Bingoavond.
SUMMARY:Bingo
LOCATION:Kantine Rijhal De Morraruters
CLASS:PUBLIC
END:VEVENT
END:VCALENDAR
